View In:
ArcGIS JavaScript
ArcGIS Online Map Viewer
ArcGIS Earth
Service Description: Imagery/MD_Nuisance_Flooding_2050
Name: Imagery/MD_Nuisance_Flooding_2050
Description:
Single Fused Map Cache: false
Extent:
XMin: 1221564.5258377318
YMin: 79350.87511650578
XMax: 1878636.7025043988
YMax: 720012.3234498395
Spatial Reference: 102685
(2248)
LatestVCSWkid(0)
Initial Extent:
XMin: 1221564.5258377318
YMin: 79350.87511650578
XMax: 1878636.7025043988
YMax: 720012.3234498395
Spatial Reference: 102685
(2248)
LatestVCSWkid(0)
Full Extent:
XMin: 1221564.5258377318
YMin: 79350.87511650578
XMax: 1878636.7025043988
YMax: 720012.3234498395
Spatial Reference: 102685
(2248)
LatestVCSWkid(0)
Pixel Size X: 6.56166666666667
Pixel Size Y: 6.561666666666671
Band Count: 1
Pixel Type: F32
RasterFunction Infos: {"rasterFunctionInfos": [{
"name": "None",
"description": "",
"help": ""
}]}
Mensuration Capabilities: Basic
Inspection Capabilities:
Has Histograms: true
Has Colormap: false
Has Multi Dimensions : false
Rendering Rule:
Min Scale: 0
Max Scale: 0
Copyright Text:
Service Data Type: esriImageServiceDataTypeGeneric
Min Values: 0
Max Values: 3.3559999465942
Mean Values: 2.5411258835063
Standard Deviation Values: 0.47948193897472
Object ID Field:
Fields:
None
Default Mosaic Method: Center
Allowed Mosaic Methods:
SortField:
SortValue: null
Mosaic Operator: First
Default Compression Quality: 75
Default Resampling Method: Bilinear
Max Record Count: null
Max Image Height: 4100
Max Image Width: 15000
Max Download Image Count: null
Max Mosaic Image Count: null
Allow Raster Function: true
Allow Copy: true
Allow Analysis: true
Allow Compute TiePoints: false
Supports Statistics: false
Supports Advanced Queries: false
Use StandardizedQueries: true
Raster Type Infos:
Name: Raster Dataset
Description: Supports all ArcGIS Raster Datasets
Help:
Has Raster Attribute Table: false
Edit Fields Info: null
Ownership Based AccessControl For Rasters: null
Child Resources:
Info
Histograms
Statistics
Key Properties
Legend
Raster Function Infos
Supported Operations:
Export Image
Identify
Measure
Compute Histograms
Compute Statistics Histograms
Get Samples
Compute Class Statistics
Query Boundary
Compute Pixel Location
Compute Angles
Validate
Project