{
 "currentVersion": 11.5,
 "serviceDescription": "Imagery/MD_Nuisance_Flooding_2050",
 "serviceItemId": "faff7781d97545fc9b7424cdf315d123",
 "name": "Imagery/MD_Nuisance_Flooding_2050",
 "description": "",
 "extent": {
  "xmin": 1221564.5258377318,
  "ymin": 79350.87511650578,
  "xmax": 1878636.7025043988,
  "ymax": 720012.3234498395,
  "spatialReference": {
   "wkid": 102685,
   "latestWkid": 2248
  }
 },
 "initialExtent": {
  "xmin": 1221564.5258377318,
  "ymin": 79350.87511650578,
  "xmax": 1878636.7025043988,
  "ymax": 720012.3234498395,
  "spatialReference": {
   "wkid": 102685,
   "latestWkid": 2248
  }
 },
 "fullExtent": {
  "xmin": 1221564.5258377318,
  "ymin": 79350.87511650578,
  "xmax": 1878636.7025043988,
  "ymax": 720012.3234498395,
  "spatialReference": {
   "wkid": 102685,
   "latestWkid": 2248
  }
 },
 "sortableFields": "",
 "bandCount": 1,
 "pixelType": "F32",
 "minValues": [
  0
 ],
 "maxValues": [
  3.3559999465942
 ],
 "meanValues": [
  2.5411258835063
 ],
 "stdvValues": [
  0.47948193897472
 ],
 "serviceProperties": "Center<\/MosaicMethod>First<\/MosaicOperator>true<\/SortAscending><\/LockImageID><\/TileOrderField>0<\/TileOrderBase>0.000000<\/AvgImageSpacingX>0.000000<\/AvgImageSpacingY>0.0<\/ViewPointX>0.0<\/ViewPointY>0.0<\/ViewPointDefShiftX>0.0<\/ViewPointDefShiftY>None<\/CompressionMethod>75<\/CompressionQuality>0.010000<\/CompressionTolerance>Bilinear<\/SamplingMethod><\/ImageServiceProperties><\/ImageServer>",
 "allowedFields": "",
 "hasMultidimensions": false,
 "pixelSizeX": 6.56166666666667,
 "pixelSizeY": 6.561666666666671,
 "meanPixelSize": 2.0000000000000018,
 "datasetFormat": "TIFF",
 "uncompressedSize": 39108695624,
 "blockWidth": 128,
 "blockHeight": 128,
 "compressionType": "None",
 "bandNames": [
  "Band_1"
 ],
 "allowCopy": true,
 "allowAnalysis": true,
 "itemAccess": false,
 "inspectionCapabilities": "",
 "noDataValue": -3.4028234663852886E38,
 "noDataValues": [
  -3.4028234663852886E38
 ],
 "minPixelSize": 0,
 "maxPixelSize": 0,
 "copyrightText": "",
 "serviceDataType": "esriImageServiceDataTypeGeneric",
 "serviceSourceType": "esriImageServiceSourceTypeDataset",
 "objectIdField": "",
 "fields": [],
 "capabilities": "Image, Metadata, Mensuration",
 "defaultMosaicMethod": "Center",
 "allowedMosaicMethods": "",
 "sortField": "",
 "sortValue": null,
 "sortAscending": true,
 "mosaicOperator": "First",
 "defaultCompressionQuality": 75,
 "defaultResamplingMethod": "Bilinear",
 "maxImageHeight": 4100,
 "maxImageWidth": 15000,
 "allowRasterFunction": true,
 "rasterFunctionInfos": [
  {
   "name": "None",
   "description": "",
   "help": ""
  }
 ],
 "rasterTypeInfos": [
  {
   "name": "Raster Dataset",
   "description": "Supports all ArcGIS Raster Datasets",
   "help": ""
  }
 ],
 "mensurationCapabilities": "Basic",
 "hasHistograms": true,
 "hasColormap": false,
 "hasRasterAttributeTable": false,
 "minScale": 0,
 "maxScale": 0,
 "exportTilesAllowed": false,
 "supportsStatistics": false,
 "supportsAdvancedQueries": false,
 "editFieldsInfo": null,
 "ownershipBasedAccessControlForRasters": null,
 "allowComputeTiePoints": false,
 "useStandardizedQueries": true,
 "advancedQueryCapabilities": {
  "useStandardizedQueries": true,
  "supportsStatistics": false,
  "supportsOrderBy": false,
  "supportsDistinct": false,
  "supportsPagination": false
 },
 "spatialReference": {
  "wkid": 102685,
  "latestWkid": 2248
 }
}
