View In:
ArcGIS JavaScript
ArcGIS Online Map Viewer
ArcGIS Earth
Service Description: MDForestTechStudy/Exclusion_Areas_for_Plantable_Area_Analysis
Name: MDForestTechStudy/Exclusion_Areas_for_Plantable_Area_Analysis
Description:
Single Fused Map Cache: false
Extent:
XMin: -8880471.96025329
YMin: 4538553.535256242
XMax: -8310741.960253291
YMax: 4902493.535256242
Spatial Reference: 102100
(3857)
LatestVCSWkid(0)
Initial Extent:
XMin: -8880471.96025329
YMin: 4538553.535256242
XMax: -8310741.960253291
YMax: 4902493.535256242
Spatial Reference: 102100
(3857)
LatestVCSWkid(0)
Full Extent:
XMin: -8880471.96025329
YMin: 4538553.535256242
XMax: -8310741.960253291
YMax: 4902493.535256242
Spatial Reference: 102100
(3857)
LatestVCSWkid(0)
Pixel Size X: 10.0
Pixel Size Y: 10.0
Band Count: 1
Pixel Type: U1
RasterFunction Infos: {"rasterFunctionInfos": [{
"name": "None",
"description": "",
"help": ""
}]}
Mensuration Capabilities: Basic
Inspection Capabilities:
Has Histograms: true
Has Colormap: false
Has Multi Dimensions : false
Rendering Rule:
Min Scale: 0
Max Scale: 0
Copyright Text:
Service Data Type: esriImageServiceDataTypeThematic
Min Values: 1
Max Values: 1
Mean Values: 1
Standard Deviation Values: 0
Object ID Field:
Fields:
None
Default Mosaic Method: Center
Allowed Mosaic Methods:
SortField:
SortValue: null
Mosaic Operator: First
Default Compression Quality: 75
Default Resampling Method: Bilinear
Max Record Count: null
Max Image Height: 4100
Max Image Width: 15000
Max Download Image Count: null
Max Mosaic Image Count: null
Allow Raster Function: true
Allow Copy: true
Allow Analysis: true
Allow Compute TiePoints: false
Supports Statistics: false
Supports Advanced Queries: false
Use StandardizedQueries: true
Raster Type Infos:
Name: Raster Dataset
Description: Supports all ArcGIS Raster Datasets
Help:
Has Raster Attribute Table: false
Edit Fields Info: null
Ownership Based AccessControl For Rasters: null
Child Resources:
Info
Histograms
Statistics
Key Properties
Legend
Raster Function Infos
Supported Operations:
Export Image
Identify
Measure
Compute Histograms
Compute Statistics Histograms
Get Samples
Compute Class Statistics
Query Boundary
Compute Pixel Location
Compute Angles
Validate
Project