View In:
ArcGIS JavaScript
ArcGIS Online Map Viewer
ArcGIS Earth
Service Description: Imagery/TNC_Resilient_and_Connected_SMCA
Name: Imagery/TNC_Resilient_and_Connected_SMCA
Description:
Single Fused Map Cache: false
Extent:
XMin: 1591125.1728249914
YMin: 1826782.2235995596
XMax: 1698733.3078627011
YMax: 1975163.289529562
Spatial Reference: 0
(0)
LatestVCSWkid(0)
Initial Extent:
XMin: 1591125.1728249914
YMin: 1826782.2235995596
XMax: 1698733.3078627011
YMax: 1975163.289529562
Spatial Reference: 0
(0)
LatestVCSWkid(0)
Full Extent:
XMin: 1591125.1728249914
YMin: 1826782.2235995596
XMax: 1698733.3078627011
YMax: 1975163.289529562
Spatial Reference: 0
(0)
LatestVCSWkid(0)
Pixel Size X: 46.50308342165503
Pixel Size Y: 38.5105284012464
Band Count: 1
Pixel Type: S32
RasterFunction Infos: {"rasterFunctionInfos": [{
"name": "None",
"description": "",
"help": ""
}]}
Mensuration Capabilities: Basic
Inspection Capabilities:
Has Histograms: true
Has Colormap: false
Has Multi Dimensions : false
Rendering Rule:
Min Scale: 0
Max Scale: 0
Copyright Text:
Service Data Type: esriImageServiceDataTypeThematic
Min Values: 0
Max Values: 33
Mean Values: 0.96633890551231
Standard Deviation Values: 4.2392784589746
Object ID Field:
Fields:
None
Default Mosaic Method: Center
Allowed Mosaic Methods:
SortField:
SortValue: null
Mosaic Operator: First
Default Compression Quality: 75
Default Resampling Method: Bilinear
Max Record Count: null
Max Image Height: 4100
Max Image Width: 15000
Max Download Image Count: null
Max Mosaic Image Count: null
Allow Raster Function: true
Allow Copy: true
Allow Analysis: true
Allow Compute TiePoints: false
Supports Statistics: false
Supports Advanced Queries: false
Use StandardizedQueries: true
Raster Type Infos:
Name: Raster Dataset
Description: Supports all ArcGIS Raster Datasets
Help:
Has Raster Attribute Table: true
Edit Fields Info: null
Ownership Based AccessControl For Rasters: null
Child Resources:
Info
Raster Attribute Table
Histograms
Statistics
Key Properties
Legend
Raster Function Infos
Supported Operations:
Export Image
Identify
Measure
Compute Histograms
Compute Statistics Histograms
Get Samples
Compute Class Statistics
Query Boundary
Compute Pixel Location
Compute Angles
Validate
Project