View In:
ArcGIS JavaScript
ArcGIS Online Map Viewer
ArcGIS Earth
Service Description: Imagery/NAIP_for_Reviewer
Name: Imagery/NAIP_for_Reviewer
Description:
Single Fused Map Cache: false
Extent:
XMin: 239900.4
YMin: 4298694.000000001
XMax: 300441.6000005873
YMax: 4362299.3999605095
Spatial Reference: 26918
(26918)
LatestVCSWkid(0)
Initial Extent:
XMin: 239900.4
YMin: 4298694.000000001
XMax: 300441.6000005873
YMax: 4362299.3999605095
Spatial Reference: 26918
(26918)
LatestVCSWkid(0)
Full Extent:
XMin: 239900.4
YMin: 4298694.000000001
XMax: 300441.6000005873
YMax: 4362299.3999605095
Spatial Reference: 26918
(26918)
LatestVCSWkid(0)
Pixel Size X: 0.6000000000058204
Pixel Size Y: 0.599999999627471
Band Count: 3
Pixel Type: U8
RasterFunction Infos: {"rasterFunctionInfos": [{
"name": "None",
"description": "",
"help": ""
}]}
Mensuration Capabilities: Basic
Inspection Capabilities:
Has Histograms: true
Has Colormap: false
Has Multi Dimensions : false
Rendering Rule:
Min Scale: 0
Max Scale: 0
Copyright Text:
Service Data Type: esriImageServiceDataTypeRGB
Min Values: 1, 1, 1
Max Values: 254, 254, 254
Mean Values: 98.378599485208, 112.95763105209, 87.646054377674
Standard Deviation Values: 36.096903138494, 35.011629262989, 28.710424454528
Object ID Field:
Fields:
None
Default Mosaic Method: Center
Allowed Mosaic Methods:
SortField:
SortValue: null
Mosaic Operator: First
Default Compression Quality: 75
Default Resampling Method: Bilinear
Max Record Count: null
Max Image Height: 4100
Max Image Width: 15000
Max Download Image Count: null
Max Mosaic Image Count: null
Allow Raster Function: true
Allow Copy: true
Allow Analysis: true
Allow Compute TiePoints: false
Supports Statistics: false
Supports Advanced Queries: false
Use StandardizedQueries: true
Raster Type Infos:
Name: Raster Dataset
Description: Supports all ArcGIS Raster Datasets
Help:
Has Raster Attribute Table: false
Edit Fields Info: null
Ownership Based AccessControl For Rasters: null
Child Resources:
Info
Histograms
Statistics
Key Properties
Legend
Raster Function Infos
Supported Operations:
Export Image
Identify
Measure
Compute Histograms
Compute Statistics Histograms
Get Samples
Compute Class Statistics
Query Boundary
Compute Pixel Location
Compute Angles
Validate
Project