View In:
ArcGIS JavaScript
ArcGIS Online Map Viewer
ArcGIS Earth
Service Description: Imagery/Heat_Severity_2021_Decision_Support
Name: Imagery/Heat_Severity_2021_Decision_Support
Description:
Single Fused Map Cache: false
Extent:
XMin: 1290685.0000000005
YMin: 1648672.920912677
XMax: 1824415.0000000005
YMax: 2540632.920912677
Spatial Reference: 102039
(102039)
LatestVCSWkid(0)
Initial Extent:
XMin: 1290685.0000000005
YMin: 1648672.920912677
XMax: 1824415.0000000005
YMax: 2540632.920912677
Spatial Reference: 102039
(102039)
LatestVCSWkid(0)
Full Extent:
XMin: 1290685.0000000005
YMin: 1648672.920912677
XMax: 1824415.0000000005
YMax: 2540632.920912677
Spatial Reference: 102039
(102039)
LatestVCSWkid(0)
Pixel Size X: 30.0
Pixel Size Y: 30.0
Band Count: 1
Pixel Type: U8
RasterFunction Infos: {"rasterFunctionInfos": [{
"name": "None",
"description": "",
"help": ""
}]}
Mensuration Capabilities: Basic
Inspection Capabilities:
Has Histograms: true
Has Colormap: false
Has Multi Dimensions : false
Rendering Rule:
Min Scale: 0
Max Scale: 0
Copyright Text:
Service Data Type: esriImageServiceDataTypeGeneric
Min Values: 0
Max Values: 5
Mean Values: 0.2059096113335
Standard Deviation Values: 0.6960268993729
Object ID Field:
Fields:
None
Default Mosaic Method: Center
Allowed Mosaic Methods:
SortField:
SortValue: null
Mosaic Operator: First
Default Compression Quality: 75
Default Resampling Method: Bilinear
Max Record Count: null
Max Image Height: 4100
Max Image Width: 15000
Max Download Image Count: null
Max Mosaic Image Count: null
Allow Raster Function: true
Allow Copy: true
Allow Analysis: true
Allow Compute TiePoints: false
Supports Statistics: false
Supports Advanced Queries: false
Use StandardizedQueries: true
Raster Type Infos:
Name: Raster Dataset
Description: Supports all ArcGIS Raster Datasets
Help:
Has Raster Attribute Table: true
Edit Fields Info: null
Ownership Based AccessControl For Rasters: null
Child Resources:
Info
Raster Attribute Table
Histograms
Statistics
Key Properties
Legend
Raster Function Infos
Supported Operations:
Export Image
Identify
Measure
Compute Histograms
Compute Statistics Histograms
Get Samples
Compute Class Statistics
Query Boundary
Compute Pixel Location
Compute Angles
Validate
Project