View In:
ArcGIS JavaScript
ArcGIS Online Map Viewer
ArcGIS Earth
Service Description: Imagery/CBW_lulc_t1_2024_Edition_publish
Name: Imagery/CBW_lulc_t1_2024_Edition_publish
Description:
Single Fused Map Cache: false
Extent:
XMin: 1306955.0000000005
YMin: 1656724.9999999981
XMax: 1802680.0000000005
YMax: 2529175.999999998
Spatial Reference: 102039
(102039)
LatestVCSWkid(0)
Initial Extent:
XMin: 1306955.0000000005
YMin: 1656724.9999999981
XMax: 1802680.0000000005
YMax: 2529175.999999998
Spatial Reference: 102039
(102039)
LatestVCSWkid(0)
Full Extent:
XMin: 1306955.0000000005
YMin: 1656724.9999999981
XMax: 1802680.0000000005
YMax: 2529175.999999998
Spatial Reference: 102039
(102039)
LatestVCSWkid(0)
Pixel Size X: 1.0
Pixel Size Y: 1.0
Band Count: 1
Pixel Type: U8
RasterFunction Infos: {"rasterFunctionInfos": [{
"name": "None",
"description": "",
"help": ""
}]}
Mensuration Capabilities:
Inspection Capabilities:
Has Histograms: false
Has Colormap: false
Has Multi Dimensions : false
Rendering Rule:
Min Scale: 0
Max Scale: 0
Copyright Text:
Service Data Type: esriImageServiceDataTypeGeneric
Min Values: 10
Max Values: 86
Mean Values: 44.970332072705
Standard Deviation Values: 20.472572955572
Object ID Field:
Fields:
None
Default Mosaic Method: Center
Allowed Mosaic Methods:
SortField:
SortValue: null
Mosaic Operator: First
Default Compression Quality: 75
Default Resampling Method: Bilinear
Max Record Count: null
Max Image Height: 4100
Max Image Width: 15000
Max Download Image Count: null
Max Mosaic Image Count: null
Allow Raster Function: true
Allow Copy: true
Allow Analysis: true
Allow Compute TiePoints: false
Supports Statistics: false
Supports Advanced Queries: false
Use StandardizedQueries: true
Raster Type Infos:
Name: Raster Dataset
Description: Supports all ArcGIS Raster Datasets
Help:
Has Raster Attribute Table: true
Edit Fields Info: null
Ownership Based AccessControl For Rasters: null
Child Resources:
Info
Raster Attribute Table
Statistics
Key Properties
Legend
Raster Function Infos
Supported Operations:
Export Image
Identify
Compute Histograms
Compute Statistics Histograms
Get Samples
Compute Class Statistics
Query Boundary
Compute Pixel Location
Compute Angles
Validate
Project