View In:
ArcGIS JavaScript
ArcGIS Online Map Viewer
ArcGIS Earth
Service Description: AnneArundel/NAIP_2017
Name: AnneArundel/NAIP_2017
Description:
Single Fused Map Cache: false
Extent:
XMin: -8571456.181089386
YMin: 4670186.875763337
XMax: -8493317.181089386
YMax: 4765461.875763337
Spatial Reference: 102100
(3857)
LatestVCSWkid(0)
Initial Extent:
XMin: -8571456.181089386
YMin: 4670186.875763337
XMax: -8493317.181089386
YMax: 4765461.875763337
Spatial Reference: 102100
(3857)
LatestVCSWkid(0)
Full Extent:
XMin: -8571456.181089386
YMin: 4670186.875763337
XMax: -8493317.181089386
YMax: 4765461.875763337
Spatial Reference: 102100
(3857)
LatestVCSWkid(0)
Pixel Size X: 1.0
Pixel Size Y: 1.0
Band Count: 5
Pixel Type: U8
RasterFunction Infos: {"rasterFunctionInfos": [{
"name": "None",
"description": "",
"help": ""
}]}
Mensuration Capabilities: Basic
Inspection Capabilities:
Has Histograms: false
Has Colormap: false
Has Multi Dimensions : false
Rendering Rule:
Min Scale: 0
Max Scale: 0
Copyright Text:
Service Data Type: esriImageServiceDataTypeGeneric
Min Values: 0, 9, 0, 0, 0
Max Values: 254, 254, 254, 254, 199
Mean Values: 77.32924002323, 88.761260247741, 82.857973339635, 127.73090474358, 120.25065256978
Standard Deviation Values: 43.415835514849, 38.848273302289, 33.504943795502, 59.720092531489, 33.359064685479
Object ID Field:
Fields:
None
Default Mosaic Method: Center
Allowed Mosaic Methods:
SortField:
SortValue: null
Mosaic Operator: First
Default Compression Quality: 75
Default Resampling Method: Bilinear
Max Record Count: null
Max Image Height: 4100
Max Image Width: 15000
Max Download Image Count: null
Max Mosaic Image Count: null
Allow Raster Function: true
Allow Copy: true
Allow Analysis: true
Allow Compute TiePoints: false
Supports Statistics: false
Supports Advanced Queries: false
Use StandardizedQueries: true
Raster Type Infos:
Name: Raster Dataset
Description: Supports all ArcGIS Raster Datasets
Help:
Has Raster Attribute Table: false
Edit Fields Info: null
Ownership Based AccessControl For Rasters: null
Child Resources:
Info
Statistics
Key Properties
Legend
Raster Function Infos
Supported Operations:
Export Image
Identify
Measure
Compute Histograms
Compute Statistics Histograms
Get Samples
Compute Class Statistics
Query Boundary
Compute Pixel Location
Compute Angles
Validate
Project