{ "currentVersion": 11.5, "serviceDescription": "

This map shows 12-class land cover in the Chesapeake Bay Watershed. It was extracted from a map showing land-cover conversion in the Chesapeake Bay Watershed during the period 2013/2014-2017/2018. It was modeled with an existing 2013/2014 (Time Period 1, or T1) land-cover map containing the following classes: Water, Emergent Wetlands, Tree Canopy, Scrub\\Shrub, Low Vegetation, Barren, Impervious Structures, Other Impervious, Impervious Roads, Tree Canopy Over Impervious Structures, Tree Canopy Over Other Impervious, and Tree Canopy Over Impervious Roads. Using object-based image analysis mapping techniques, the T1 map was first refined, where necessary, using all remote-sensing imagery and GIS datasets available for 2013\\2014, including LiDAR, multispectral imagery, and thematic layers (e.g., roads, building footprints). The refined T1 map was then compared to imagery and GIS data corresponding to the period 2017/2018 (Time Period 1, or T2), identifying features that had changed during the analysis interval. Each change combination was assigned to a unique category that indicated both the \"from\" and \"to\" classes, enabling monitoring of specific types of change. Features that had not changed during the analysis interval were also incorporated into the change map, making it possible to reconstitute full land cover for either T1 or T2. Draft output was manually reviewed and edited to eliminate obvious errors of omission and commission, focusing on the most important types of landscape change: 1) tree-canopy loss; and 2) impervious-surfaces gain. The final map contained 79 change classes plus the original 12 classes for features that had not changed. The specific analysis periods for the watershed's 7 states\\districts were: Delaware, 2013-2018; District of Columbia, 2013-2017; Maryland, 2013-2018; New York, 2013-2017; Pennsylvania, 2013-2017; Virginia, 2014-2018; and West Virginia, 2014-2018. The 12-class extract of the change-detection map was created by reassigning all change classes to their T2 status.<\/span><\/p><\/div><\/div><\/div>", "serviceItemId": "eed6183e835847a6acc6877697489fa9", "name": "LULC/chesapeakebay_landcover_20172018_v2_tif", "description": "

This map shows 12-class land cover in the Chesapeake Bay Watershed. It was extracted from a map showing land-cover conversion in the Chesapeake Bay Watershed during the period 2013/2014-2017/2018. It was modeled with an existing 2013/2014 (Time Period 1, or T1) land-cover map containing the following classes: Water, Emergent Wetlands, Tree Canopy, Scrub\\Shrub, Low Vegetation, Barren, Impervious Structures, Other Impervious, Impervious Roads, Tree Canopy Over Impervious Structures, Tree Canopy Over Other Impervious, and Tree Canopy Over Impervious Roads. Using object-based image analysis mapping techniques, the T1 map was first refined, where necessary, using all remote-sensing imagery and GIS datasets available for 2013\\2014, including LiDAR, multispectral imagery, and thematic layers (e.g., roads, building footprints). The refined T1 map was then compared to imagery and GIS data corresponding to the period 2017/2018 (Time Period 1, or T2), identifying features that had changed during the analysis interval. Each change combination was assigned to a unique category that indicated both the \"from\" and \"to\" classes, enabling monitoring of specific types of change. Features that had not changed during the analysis interval were also incorporated into the change map, making it possible to reconstitute full land cover for either T1 or T2. Draft output was manually reviewed and edited to eliminate obvious errors of omission and commission, focusing on the most important types of landscape change: 1) tree-canopy loss; and 2) impervious-surfaces gain. The final map contained 79 change classes plus the original 12 classes for features that had not changed. The specific analysis periods for the watershed's 7 states\\districts were: Delaware, 2013-2018; District of Columbia, 2013-2017; Maryland, 2013-2018; New York, 2013-2017; Pennsylvania, 2013-2017; Virginia, 2014-2018; and West Virginia, 2014-2018. The 12-class extract of the change-detection map was created by reassigning all change classes to their T2 status.<\/span><\/p><\/div><\/div><\/div>", "extent": { "xmin": 1306955.0000000005, "ymin": 1656724.9999999981, "xmax": 1802680.0000000005, "ymax": 2529175.999999998, "spatialReference": { "wkid": 102039, "latestWkid": 102039 } }, "initialExtent": { "xmin": 1306955.0000000005, "ymin": 1656724.9999999981, "xmax": 1802680.0000000005, "ymax": 2529175.999999998, "spatialReference": { "wkid": 102039, "latestWkid": 102039 } }, "fullExtent": { "xmin": 1306955.0000000005, "ymin": 1656724.9999999981, "xmax": 1802680.0000000005, "ymax": 2529175.999999998, "spatialReference": { "wkid": 102039, "latestWkid": 102039 } }, "sortableFields": "", "bandCount": 1, "pixelType": "U8", "minValues": [ 1 ], "maxValues": [ 254 ], "meanValues": [ 3.8018939216032 ], "stdvValues": [ 6.3721704251781 ], "serviceProperties": "Center<\/MosaicMethod>First<\/MosaicOperator>true<\/SortAscending><\/LockImageID><\/TileOrderField>0<\/TileOrderBase>0.000000<\/AvgImageSpacingX>0.000000<\/AvgImageSpacingY>0.0<\/ViewPointX>0.0<\/ViewPointY>0.0<\/ViewPointDefShiftX>0.0<\/ViewPointDefShiftY>None<\/CompressionMethod>75<\/CompressionQuality>0.010000<\/CompressionTolerance>Nearest<\/SamplingMethod><\/ImageServiceProperties><\/ImageServer>", "allowedFields": "", "hasMultidimensions": false, "pixelSizeX": 1, "pixelSizeY": 1, "meanPixelSize": 1, "datasetFormat": "TIFF", "uncompressedSize": 432495771975, "blockWidth": 256, "blockHeight": 256, "compressionType": "LZW", "bandNames": [ "Layer_1" ], "allowCopy": true, "allowAnalysis": true, "itemAccess": false, "inspectionCapabilities": "", "noDataValue": 0, "noDataValues": [ 0 ], "minPixelSize": 0, "maxPixelSize": 0, "copyrightText": "The University of Vermont Spatial Analysis Laboratory developed this map in cooperation with the Chesapeake Conservancy and the U.S. Geological Survey.", "serviceDataType": "esriImageServiceDataTypeThematic", "serviceSourceType": "esriImageServiceSourceTypeDataset", "objectIdField": "", "fields": [], "capabilities": "Mensuration,Image,Metadata", "defaultMosaicMethod": "Center", "allowedMosaicMethods": "", "sortField": "", "sortValue": null, "sortAscending": true, "mosaicOperator": "First", "defaultCompressionQuality": 75, "defaultResamplingMethod": "Nearest", "maxImageHeight": 4100, "maxImageWidth": 15000, "allowRasterFunction": true, "rasterFunctionInfos": [ { "name": "None", "description": "", "help": "" } ], "rasterTypeInfos": [ { "name": "Raster Dataset", "description": "Supports all ArcGIS Raster Datasets", "help": "" } ], "mensurationCapabilities": "Basic", "hasHistograms": true, "hasColormap": false, "hasRasterAttributeTable": true, "minScale": 0, "maxScale": 0, "exportTilesAllowed": false, "supportsStatistics": false, "supportsAdvancedQueries": false, "editFieldsInfo": null, "ownershipBasedAccessControlForRasters": null, "allowComputeTiePoints": false, "useStandardizedQueries": true, "advancedQueryCapabilities": { "useStandardizedQueries": true, "supportsStatistics": false, "supportsOrderBy": false, "supportsDistinct": false, "supportsPagination": false }, "spatialReference": { "wkid": 102039, "latestWkid": 102039 }, "resampling": false }