<?xml version="1.0" encoding="UTF-8" standalone="no"?>
<metadata xml:lang="en">
<Esri>
<CreaDate>20220524</CreaDate>
<CreaTime>10490400</CreaTime>
<ArcGISFormat>1.0</ArcGISFormat>
<SyncOnce>FALSE</SyncOnce>
<DataProperties>
<lineage>
<Process Date="20220301" Name="Build Pyramids And Statistics" Time="152523" ToolSource="c:\program files\arcgis\pro\Resources\ArcToolbox\toolboxes\Data Management Tools.tbx\BuildPyramidsandStatistics" export="">BuildPyramidsandStatistics F:\Scratch\ChesapeakeBay_Scratch\chesapeakebay_landcover_20172018_v2.tif INCLUDE_SUBDIRECTORIES BUILD_PYRAMIDS CALCULATE_STATISTICS NONE # NONE 1 1 0 -1 NONE "Nearest neighbor" Default 75 OVERWRITE # NONE</Process>
<Process Date="20220301" Name="Build Raster Attribute Table" Time="155543" ToolSource="c:\program files\arcgis\pro\Resources\ArcToolbox\toolboxes\Data Management Tools.tbx\BuildRasterAttributeTable" export="">BuildRasterAttributeTable F:\Scratch\ChesapeakeBay_Scratch\chesapeakebay_landcover_20172018_v2.tif Overwrite NONE</Process>
<Process Date="20220306" Name="Build Pyramids And Statistics" Time="150735" ToolSource="c:\program files\arcgis\pro\Resources\ArcToolbox\toolboxes\Data Management Tools.tbx\BuildPyramidsandStatistics" export="">BuildPyramidsandStatistics F:\Scratch\ChesapeakeBay_Scratch\chesapeakebay_landcover_20172018_v2.tif INCLUDE_SUBDIRECTORIES BUILD_PYRAMIDS CALCULATE_STATISTICS NONE # NONE 1 1 0 -1 NONE "Nearest neighbor" Default 75 OVERWRITE # NONE</Process>
<Process Date="20220306" Name="Build Raster Attribute Table" Time="154330" ToolSource="c:\program files\arcgis\pro\Resources\ArcToolbox\toolboxes\Data Management Tools.tbx\BuildRasterAttributeTable" export="">BuildRasterAttributeTable F:\Scratch\ChesapeakeBay_Scratch\chesapeakebay_landcover_20172018_v2.tif Overwrite NONE</Process>
<Process Date="20220505" Time="172401" ToolSource="c:\program files\arcgis\pro\Resources\ArcToolbox\toolboxes\Data Management Tools.tbx\BuildRasterAttributeTable">BuildRasterAttributeTable Z:\landuse\version2\chesapeakebay_landcover_20172018_v2.tif Overwrite NONE</Process>
<Process Date="20220505" Time="172410" ToolSource="c:\program files\arcgis\pro\Resources\ArcToolbox\toolboxes\Data Management Tools.tbx\AddField">AddField Z:\landuse\version2\chesapeakebay_landcover_20172018_v2.tif LandCover Text # # # # NULLABLE NON_REQUIRED #</Process>
<Process Date="20220505" Time="172422" ToolSource="c:\program files\arcgis\pro\Resources\ArcToolbox\toolboxes\Data Management Tools.tbx\CalculateField">CalculateField Z:\landuse\version2\chesapeakebay_landcover_20172018_v2.tif LandCover landcover(!Value!) "Python 3" "def landcover(Value):
if Value == 0:
return "No Data"
elif Value == 1:
return "Water"
elif Value == 2:
return "Emergent Wetlands"
elif Value == 3:
return "Tree Canopy"
elif Value == 4:
return "Scrub\Shrub"
elif Value == 5:
return "Low Vegetation"
elif Value == 6: return "Barren"
elif Value == 7:
return "Impervious Structures"
elif Value == 8:
return "Other Impervious"
elif Value == 9:
return "Impervious Roads"
elif Value == 10:
return "Tree Canopy over Impervious Structures"
elif Value == 11:
return "Tree Canopy over Other Impervious"
elif Value == 12:
return "Tree Canopy over Impervious Roads"
elif Value == 254:
return "Aberdeen Proving Ground"
" Text NO_ENFORCE_DOMAINS</Process>
<Process Date="20220505" Time="172428" ToolSource="c:\program files\arcgis\pro\Resources\ArcToolbox\toolboxes\Data Management Tools.tbx\AddField">AddField Z:\landuse\version2\chesapeakebay_landcover_20172018_v2.tif Red "Short (small integer)" # # # # NULLABLE NON_REQUIRED #</Process>
<Process Date="20220505" Time="172437" ToolSource="c:\program files\arcgis\pro\Resources\ArcToolbox\toolboxes\Data Management Tools.tbx\CalculateField">CalculateField Z:\landuse\version2\chesapeakebay_landcover_20172018_v2.tif Red RedValue(!Value!) "Python 3" "def RedValue(Value):
if Value == 0:
return 0
elif Value == 1:
return 0
elif Value == 2:
return 0
elif Value == 3:
return 38
elif Value == 4:
return 76
elif Value == 5:
return 165
elif Value == 6:
return 255
elif Value == 7:
return 255
elif Value == 8:
return 178
elif Value == 9:
return 0
elif Value == 10:
return 115
elif Value == 11:
return 205
elif Value == 12:
return 255
elif Value == 254:
return 197
" Text NO_ENFORCE_DOMAINS</Process>
<Process Date="20220505" Time="172442" ToolSource="c:\program files\arcgis\pro\Resources\ArcToolbox\toolboxes\Data Management Tools.tbx\AddField">AddField Z:\landuse\version2\chesapeakebay_landcover_20172018_v2.tif Green "Short (small integer)" # # # # NULLABLE NON_REQUIRED #</Process>
<Process Date="20220505" Time="172452" ToolSource="c:\program files\arcgis\pro\Resources\ArcToolbox\toolboxes\Data Management Tools.tbx\CalculateField">CalculateField Z:\landuse\version2\chesapeakebay_landcover_20172018_v2.tif Green GreenValue(!Value!) "Python 3" "def GreenValue(Value):
if Value == 0:
return 0
elif (Value == 1):
return 97
elif Value == 2:
return 168
elif Value == 3:
return 115
elif Value == 4:
return 230
elif Value == 5:
return 245
elif Value == 6:
return 170
elif Value == 7:
return 0
elif Value == 8:
return 178
elif Value == 9:
return 0
elif Value == 10:
return 115
elif Value == 11:
return 205
elif Value == 12:
return 255
elif Value == 254:
return 0
" Text NO_ENFORCE_DOMAINS</Process>
<Process Date="20220505" Time="172457" ToolSource="c:\program files\arcgis\pro\Resources\ArcToolbox\toolboxes\Data Management Tools.tbx\AddField">AddField Z:\landuse\version2\chesapeakebay_landcover_20172018_v2.tif Blue "Short (small integer)" # # # # NULLABLE NON_REQUIRED #</Process>
<Process Date="20220505" Time="172506" ToolSource="c:\program files\arcgis\pro\Resources\ArcToolbox\toolboxes\Data Management Tools.tbx\CalculateField">CalculateField Z:\landuse\version2\chesapeakebay_landcover_20172018_v2.tif Blue BlueValue(!Value!) "Python 3" "def BlueValue(Value):
if Value == 0:
return 0
elif Value == 1:
return 255
elif Value == 2:
return 132
elif Value == 3:
return 0
elif Value == 4:
return 0
elif Value == 5:
return 122
elif Value == 6:
return 0
elif Value == 7:
return 0
elif Value == 8:
return 178
elif Value == 9:
return 0
elif Value == 10:
return 0
elif Value == 11:
return 102
elif Value == 12:
return 115
elif Value == 254:
return 255
" Text NO_ENFORCE_DOMAINS</Process>
<Process Date="20220524" Time="104904" ToolSource="c:\program files\arcgis\pro\Resources\ArcToolbox\Toolboxes\Data Management Tools.tbx\Copy">Copy \\chesconse-app01\D\GIS\_Web_Services\LULC\chesapeakebay_landcover_20172018_v2.tif \\chesconse-app01\D\GIS\_Web_Services\LULC\co_bounds\chesapeakebay_landcover_20172018_v2.tif "Raster Dataset" #</Process>
</lineage>
<itemProps>
<itemName Sync="TRUE">chesapeakebay_landcover_20172018_v2.tif</itemName>
<itemLocation>
<linkage Sync="TRUE">file://\\chesconse-app01\D\GIS\_Web_Services\LULC\co_bounds\chesapeakebay_landcover_20172018_v2.tif</linkage>
<protocol Sync="TRUE">Local Area Network</protocol>
</itemLocation>
<nativeExtBox>
<westBL Sync="TRUE">1306955.000000</westBL>
<eastBL Sync="TRUE">1802680.000000</eastBL>
<southBL Sync="TRUE">1656725.000000</southBL>
<northBL Sync="TRUE">2529176.000000</northBL>
<exTypeCode Sync="TRUE">1</exTypeCode>
</nativeExtBox>
<imsContentType Sync="TRUE">002</imsContentType>
</itemProps>
<coordRef>
<type Sync="TRUE">Projected</type>
<geogcsn Sync="TRUE">GCS_North_American_1983</geogcsn>
<csUnits Sync="TRUE">Linear Unit: Meter (1.000000)</csUnits>
<projcsn Sync="TRUE">USA_Contiguous_Albers_Equal_Area_Conic_USGS_version</projcsn>
<peXml Sync="TRUE">&lt;ProjectedCoordinateSystem xsi:type='typens:ProjectedCoordinateSystem' xmlns:xsi='http://www.w3.org/2001/XMLSchema-instance' xmlns:xs='http://www.w3.org/2001/XMLSchema' xmlns:typens='http://www.esri.com/schemas/ArcGIS/10.6'&gt;&lt;WKT&gt;PROJCS[&amp;quot;USA_Contiguous_Albers_Equal_Area_Conic_USGS_version&amp;quot;,GEOGCS[&amp;quot;GCS_North_American_1983&amp;quot;,DATUM[&amp;quot;D_North_American_1983&amp;quot;,SPHEROID[&amp;quot;GRS_1980&amp;quot;,6378137.0,298.257222101]],PRIMEM[&amp;quot;Greenwich&amp;quot;,0.0],UNIT[&amp;quot;Degree&amp;quot;,0.0174532925199433]],PROJECTION[&amp;quot;Albers&amp;quot;],PARAMETER[&amp;quot;False_Easting&amp;quot;,0.0],PARAMETER[&amp;quot;False_Northing&amp;quot;,0.0],PARAMETER[&amp;quot;Central_Meridian&amp;quot;,-96.0],PARAMETER[&amp;quot;Standard_Parallel_1&amp;quot;,29.5],PARAMETER[&amp;quot;Standard_Parallel_2&amp;quot;,45.5],PARAMETER[&amp;quot;Latitude_Of_Origin&amp;quot;,23.0],UNIT[&amp;quot;Meter&amp;quot;,1.0],AUTHORITY[&amp;quot;Esri&amp;quot;,102039]]&lt;/WKT&gt;&lt;XOrigin&gt;-16901100&lt;/XOrigin&gt;&lt;YOrigin&gt;-6972200&lt;/YOrigin&gt;&lt;XYScale&gt;266467840.99085236&lt;/XYScale&gt;&lt;ZOrigin&gt;-100000&lt;/ZOrigin&gt;&lt;ZScale&gt;10000&lt;/ZScale&gt;&lt;MOrigin&gt;-100000&lt;/MOrigin&gt;&lt;MScale&gt;10000&lt;/MScale&gt;&lt;XYTolerance&gt;0.001&lt;/XYTolerance&gt;&lt;ZTolerance&gt;0.001&lt;/ZTolerance&gt;&lt;MTolerance&gt;0.001&lt;/MTolerance&gt;&lt;HighPrecision&gt;true&lt;/HighPrecision&gt;&lt;WKID&gt;102039&lt;/WKID&gt;&lt;LatestWKID&gt;102039&lt;/LatestWKID&gt;&lt;/ProjectedCoordinateSystem&gt;</peXml>
</coordRef>
<RasterProperties>
<General>
<PixelDepth Sync="TRUE">8</PixelDepth>
<HasColormap Sync="TRUE">FALSE</HasColormap>
<CompressionType Sync="TRUE">None</CompressionType>
<NumBands Sync="TRUE">1</NumBands>
<Format Sync="TRUE">TIFF</Format>
<HasPyramids Sync="TRUE">TRUE</HasPyramids>
<SourceType Sync="TRUE">continuous</SourceType>
<PixelType Sync="TRUE">unsigned integer</PixelType>
<NoDataValue Sync="TRUE">0</NoDataValue>
</General>
</RasterProperties>
<copyHistory>
<copy date="20220524" dest="\\chesconse-app01\D\GIS\_Web_Services\LULC\co_bounds\chesapeakebay_landcover_20172018_v2.tif" source="\\chesconse-app01\D\GIS\_Web_Services\LULC\chesapeakebay_landcover_20172018_v2.tif" time="10490400"/>
</copyHistory>
</DataProperties>
<SyncDate>20220307</SyncDate>
<SyncTime>07224400</SyncTime>
<ModDate>20220307</ModDate>
<ModTime>07224400</ModTime>
<scaleRange>
<minScale>150000000</minScale>
<maxScale>5000</maxScale>
</scaleRange>
<ArcGISProfile>FGDC</ArcGISProfile>
</Esri>
<dataIdInfo>
<idCitation>
<resTitle Sync="FALSE">chesapeakebay_landcover_20172018_v2_tif</resTitle>
<date>
<pubDate>2022-01-19T00:00:00</pubDate>
</date>
<citRespParty>
<rpIndName>Jarlath O'Neil-Dunne</rpIndName>
<rpOrgName>University of Vermont Spatial Analysis Laboratory</rpOrgName>
<rpPosName>Director</rpPosName>
<role>
<RoleCd value="006"/>
</role>
<rpCntInfo>
<cntAddress addressType="physical">
<delPoint>81 Carrigan Dr.</delPoint>
<city>Burlington</city>
<adminArea>Vermont</adminArea>
<postCode>05405</postCode>
<eMailAdd>Jarlath.ONeil-Dunne@uvm.edu</eMailAdd>
<country>US</country>
</cntAddress>
<cntPhone>
<voiceNum>802-656-3324</voiceNum>
</cntPhone>
</rpCntInfo>
</citRespParty>
<presForm>
<PresFormCd Sync="TRUE" value="005"/>
</presForm>
</idCitation>
<idPurp>This land-cover change extract (Time Period 2) is intended to facilitate analysis of landscape change in the Chesapeake Bay Watershed of Delaware, District of Columbia, Maryland, New York, Pennsylvania, Virginia, and West Virginia. It will permit identification of specific areas of land-cover conversion during the analysis period and also serve as a baseline for future change-detection analyses.</idPurp>
<idCredit>The University of Vermont Spatial Analysis Laboratory developed this map in cooperation with the Chesapeake Conservancy and the U.S. Geological Survey.</idCredit>
<idAbs>&lt;DIV STYLE="text-align:Left;"&gt;&lt;DIV&gt;&lt;DIV&gt;&lt;P&gt;&lt;SPAN&gt;This map shows 12-class land cover in the Chesapeake Bay Watershed. It was extracted from a map showing land-cover conversion in the Chesapeake Bay Watershed during the period 2013/2014-2017/2018. It was modeled with an existing 2013/2014 (Time Period 1, or T1) land-cover map containing the following classes: Water, Emergent Wetlands, Tree Canopy, Scrub\Shrub, Low Vegetation, Barren, Impervious Structures, Other Impervious, Impervious Roads, Tree Canopy Over Impervious Structures, Tree Canopy Over Other Impervious, and Tree Canopy Over Impervious Roads. Using object-based image analysis mapping techniques, the T1 map was first refined, where necessary, using all remote-sensing imagery and GIS datasets available for 2013\2014, including LiDAR, multispectral imagery, and thematic layers (e.g., roads, building footprints). The refined T1 map was then compared to imagery and GIS data corresponding to the period 2017/2018 (Time Period 1, or T2), identifying features that had changed during the analysis interval. Each change combination was assigned to a unique category that indicated both the "from" and "to" classes, enabling monitoring of specific types of change. Features that had not changed during the analysis interval were also incorporated into the change map, making it possible to reconstitute full land cover for either T1 or T2. Draft output was manually reviewed and edited to eliminate obvious errors of omission and commission, focusing on the most important types of landscape change: 1) tree-canopy loss; and 2) impervious-surfaces gain. The final map contained 79 change classes plus the original 12 classes for features that had not changed. The specific analysis periods for the watershed's 7 states\districts were: Delaware, 2013-2018; District of Columbia, 2013-2017; Maryland, 2013-2018; New York, 2013-2017; Pennsylvania, 2013-2017; Virginia, 2014-2018; and West Virginia, 2014-2018. The 12-class extract of the change-detection map was created by reassigning all change classes to their T2 status.&lt;/SPAN&gt;&lt;/P&gt;&lt;/DIV&gt;&lt;/DIV&gt;&lt;/DIV&gt;</idAbs>
<searchKeys>
<keyword>land cover</keyword>
<keyword>land-cover change</keyword>
<keyword>time period 2 (T2)</keyword>
<keyword>Chesapeake Bay</keyword>
<keyword>Delaware</keyword>
<keyword>District of Columbia</keyword>
<keyword>Maryland</keyword>
<keyword>New York</keyword>
<keyword>Pennsylvania</keyword>
<keyword>Virginia</keyword>
<keyword>West Virginia</keyword>
</searchKeys>
<themeKeys>
<keyword>land cover</keyword>
<keyword>land-cover change</keyword>
</themeKeys>
<placeKeys>
<keyword>Chesapeake Bay Watershed</keyword>
<keyword>Delaware</keyword>
<keyword>District of Columbia</keyword>
<keyword>Maryland</keyword>
<keyword>New York</keyword>
<keyword>Pennsylvania</keyword>
<keyword>Virginia</keyword>
<keyword>West Virginia</keyword>
</placeKeys>
<tempKeys>
<keyword>2013\2014</keyword>
<keyword>2017\2018</keyword>
</tempKeys>
<envirDesc Sync="TRUE"> Version 6.2 (Build 9200) ; Esri ArcGIS 10.6.1.9270</envirDesc>
<dataLang>
<languageCode Sync="TRUE" value="eng"/>
<countryCode Sync="TRUE" value="USA"/>
</dataLang>
<spatRpType>
<SpatRepTypCd Sync="TRUE" value="002"/>
</spatRpType>
<dataExt>
<geoEle>
<GeoBndBox esriExtentType="search">
<exTypeCode Sync="TRUE">1</exTypeCode>
<westBL Sync="TRUE">-81.108473</westBL>
<eastBL Sync="TRUE">-73.290995</eastBL>
<northBL Sync="TRUE">44.720822</northBL>
<southBL Sync="TRUE">36.212924</southBL>
</GeoBndBox>
</geoEle>
</dataExt>
<tpCat>
<TopicCatCd value="007"/>
</tpCat>
<resConst>
<Consts>
<useLimit/>
</Consts>
</resConst>
</dataIdInfo>
<dqInfo>
<dataLineage>
<statement>This map was based on a 12-class land-cover map for the Chesapeake Bay Watershed, previously developed for 2013\2014 (Time Period 1, or T1). The T1 map was first refined as necessary using LiDAR, multispectral imagery, and thematic GIS data, where available, that corresponded to the same 2013\2014 time period. Landscape that had occurred since T1 were then identified using LiDAR, multispectral imagery, and thematic GIS data, where available, that corresponded to 2017\2018 (Time Period 2, or T2). Each combination of land-cover change was coded into the output map, making it possible to reconstitute land cover for either T1 or T2. All modeling was performed in eCognition, state-of-the-art mapping software that uses object-based image analysis to segment and classify source data into meaningful landscape features.</statement>
<dataSource>
<srcDesc>12-class Land Cover Map for the Chesapeake Bay Watershed, 2013\2014 (Time Period 1, or T1), 1-meter Resolution. Developed by the Chesapeake Conservancy (VA, MD, NY, WV) and the University of Vermont (PA, DE). This map contains the following classes: 1) Water; 2) Emergent Wetlands; 3) Tree Canopy; 4) Scrub\Shrub; 5) Low Vegetation; 6) Barren; 7) Impervious Structures; 8) Other Impervious; 9) Impervious Roads; 10) Tree Canopy Over Impervious Structures; 11) Tree Canopy Over Other Impervious; and 12) Tree Canopy Over Impervious Roads.</srcDesc>
</dataSource>
<dataSource>
<srcDesc>LiDAR, 2013/2014 (Time Period 1, or T1), Resolution Dependent on Location. Where available, original LiDAR point clouds were converted into derivatives that facilitate landscape analysis, including a digital elevation model (DEM) and a digital surface model (DSM). The DEM was subtracted from the DSM to produce a normalized digital surface model (nDSM) that indicates the height of aboveground features such as buildings and trees. NOTE: T1 LiDAR was not available for every county in the Chesapeake Bay Watershed. In such cases, modeling relied more on other input datasets and subsequent manual review.</srcDesc>
</dataSource>
<dataSource>
<srcDesc>LiDAR, 2017/2018 (Time Period 2, or T2), Resolution Dependent on Location. Where available, original LiDAR point clouds were converted into derivatives that facilitate landscape analysis, including a digital elevation model (DEM) and a digital surface model (DSM). The DEM was subtracted from the DSM to produce a normalized digital surface model (nDSM) that indicates the height of aboveground features such as buildings and trees. NOTE: T2 LiDAR was not available for every county in the Chesapeake Bay Watershed. In such cases, modeling relied more on other input datasets and subsequent manual review.</srcDesc>
</dataSource>
<dataSource>
<srcDesc>National Agricultural Imagery Program (NAIP) 4-band Imagery, Leaf-on, 2013/2014 (Time Period 1, or T1), Resolution Dependent on Location.</srcDesc>
</dataSource>
<dataSource>
<srcDesc>National Agricultural Imagery Program (NAIP) 4-band Imagery, Leaf-on, 2017/2018 (Time Period 2, or T2), Resolution Dependent on Location.</srcDesc>
</dataSource>
<dataSource>
<srcDesc>Thematic GIS Datasets, Various Dates. Thematic datasets representing building footprints, roads, road centerlines, sidewalks, driveways, parking lots, alleys, county boundaries, and other datasets were used to augment change detection. NOTE: Because datasets varied widely in availability, quality, and chronology, they were not used in all Chesapeake Bay counties.</srcDesc>
</dataSource>
<prcStep>
<stepDesc>Land-cover change mapping was performed in eCognition, state-of-the-art software for performing object-based image analysis. This expert-system technique segments input datasets into meaningful landscape objects and classifies them according to both their individual characteristics (e.g., vegetation content from spectral imagery, vegetation height from LiDAR) and their relationships to adjacent features. First, the existing T1 land-cover map for the Chesapeake Bay Watershed was refined, where necessary, using available LiDAR, multispectral imagery, and thematic GIS datasets. Refinement of the T1 map maximized its value in subsequent change detection. The T1 map was then compared to T2 data inputs, focusing on the most important areas of landscape change: 1) tree-canopy loss; and 2) impervious-surfaces. gain. The final map contained 79 change classes plus the original 12 classes for features that had not changed. Change combinations unlikely to occur in the study area during the analysis period were ignored (e.g., Impervious Structures to Scrub\Shrub). Tree-canopy change classes (No Change, Gain, Loss) were then exported as vector polygons for use in manual review and editing. Impervious surfaces consolidated into a generic category and barren features were also exported as simple change classes (No Change, Gain, Loss) and exported for manual review.</stepDesc>
<stepDateTm>2020-03-01T00:00:00</stepDateTm>
</prcStep>
<prcStep>
<stepDesc>The tree-canopy, impervious, and barren change classes exported as vector polygons were manually reviewed and edited in ArcPro. Obvious errors of omission and commission were removed to improve the aesthetics and accuracy of the change classes.</stepDesc>
<stepDateTm>2020-05-01T00:00:00</stepDateTm>
</prcStep>
<prcStep>
<stepDesc>The manually-reviewed and edited vector polygons representing changes to tree canopy, impervious surfaces, and barren features were incorporated into the draft classification using eCognition. This review draft was then submitted to project stakeholders for further review and comment.</stepDesc>
<stepDateTm>2020-07-01T00:00:00</stepDateTm>
</prcStep>
<prcStep>
<stepDesc>Stakeholder review comments were received in both geographic (e.g., point datasets) and textual form (e.g., descriptions of deficiencies). These comments were in turn reviewed to gauge their scale, frequency, and pertinence. To address errors that would affect moderate-scale (10 meters) analyses of land-use change, vector polygons were manually drawn in ArcPro and assigned "from" and "to" classes that specified how each problem should be corrected. Errors at finer scales (e.g., missing sections of sidewalks or urban driveways) were ignored during this round of review. Finer-scale errors were subsequently addressed during a second round of review, when permitted by the quality of the available imagery, LiDAR, and thematic GIS datsets. However, sub-meter errors were beyond the scope of this project and thus were not addressed at any point during processing or post-processing.</stepDesc>
<stepDateTm>2021-11-30T00:00:00</stepDateTm>
</prcStep>
<prcStep>
<stepDesc>To update the dataset, the manually-reviewed and edited vector polygons representing corrections from all rounds of review were incorporated into the draft classification using eCognition.</stepDesc>
<stepDateTm>2022-01-19T00:00:00</stepDateTm>
</prcStep>
<prcStep>
<stepDesc>To create the T2 extract of the final change-detection map, each change class was converted to its T2 status, reducing the number of classes to 12.</stepDesc>
<stepDateTm>2022-01-19T00:00:00</stepDateTm>
</prcStep>
</dataLineage>
</dqInfo>
<spatRepInfo>
<Georect>
<axisDimension type="002">
<dimSize Sync="TRUE">495725</dimSize>
<dimResol>
<value Sync="TRUE" uom="m">1.000000</value>
</dimResol>
</axisDimension>
<axisDimension type="001">
<dimSize Sync="TRUE">872451</dimSize>
<dimResol>
<value Sync="TRUE" uom="m">1.000000</value>
</dimResol>
</axisDimension>
<cellGeo>
<CellGeoCd Sync="TRUE" value="002"/>
</cellGeo>
<numDims Sync="TRUE">2</numDims>
<tranParaAv Sync="TRUE">1</tranParaAv>
<chkPtAv Sync="TRUE">0</chkPtAv>
<cornerPts>
<pos Sync="TRUE">1306955.000000 1656725.000000</pos>
</cornerPts>
<cornerPts>
<pos Sync="TRUE">1306955.000000 2529176.000000</pos>
</cornerPts>
<cornerPts>
<pos Sync="TRUE">1802680.000000 2529176.000000</pos>
</cornerPts>
<cornerPts>
<pos Sync="TRUE">1802680.000000 1656725.000000</pos>
</cornerPts>
<centerPt>
<pos Sync="TRUE">1554817.500000 2092950.500000</pos>
</centerPt>
<ptInPixel>
<PixOrientCd Sync="TRUE" value="001"/>
</ptInPixel>
</Georect>
</spatRepInfo>
<contInfo>
<ImgDesc>
<covDim>
<Band>
<valUnit>
<UOM type="length"/>
</valUnit>
<dimDescrp Sync="TRUE">Layer_1</dimDescrp>
<maxVal Sync="TRUE">254.000000</maxVal>
<minVal Sync="TRUE">1.000000</minVal>
<bitsPerVal Sync="TRUE">8</bitsPerVal>
</Band>
</covDim>
<contentTyp>
