{
 "currentVersion": 11.5,
 "serviceDescription": "Imagery/coastalXdasy_scl",
 "serviceItemId": "1ca63c742469495fa67280dca66c996a",
 "name": "Imagery/coastalXdasy_scl",
 "description": "",
 "extent": {
  "xmin": 1233534.5258377318,
  "ymin": 90438.87511650624,
  "xmax": 1871688.5258377318,
  "ymax": 716910.8751165062,
  "spatialReference": {
   "wkid": 102685,
   "latestWkid": 2248
  }
 },
 "initialExtent": {
  "xmin": 1233534.5258377318,
  "ymin": 90438.87511650624,
  "xmax": 1871688.5258377318,
  "ymax": 716910.8751165062,
  "spatialReference": {
   "wkid": 102685,
   "latestWkid": 2248
  }
 },
 "fullExtent": {
  "xmin": 1233534.5258377318,
  "ymin": 90438.87511650624,
  "xmax": 1871688.5258377318,
  "ymax": 716910.8751165062,
  "spatialReference": {
   "wkid": 102685,
   "latestWkid": 2248
  }
 },
 "sortableFields": "",
 "bandCount": 1,
 "pixelType": "F32",
 "minValues": [
  0
 ],
 "maxValues": [
  1
 ],
 "meanValues": [
  9.1310618178206E-4
 ],
 "stdvValues": [
  0.0078106949758892
 ],
 "serviceProperties": "Center<\/MosaicMethod>First<\/MosaicOperator>true<\/SortAscending><\/LockImageID><\/TileOrderField>0<\/TileOrderBase>0.000000<\/AvgImageSpacingX>0.000000<\/AvgImageSpacingY>0.0<\/ViewPointX>0.0<\/ViewPointY>0.0<\/ViewPointDefShiftX>0.0<\/ViewPointDefShiftY>None<\/CompressionMethod>75<\/CompressionQuality>0.010000<\/CompressionTolerance>Bilinear<\/SamplingMethod><\/ImageServiceProperties><\/ImageServer>",
 "allowedFields": "",
 "hasMultidimensions": false,
 "pixelSizeX": 99,
 "pixelSizeY": 99,
 "meanPixelSize": 30.175260350520706,
 "datasetFormat": "TIFF",
 "uncompressedSize": 163161152,
 "blockWidth": 128,
 "blockHeight": 128,
 "compressionType": "None",
 "bandNames": [
  "Band_1"
 ],
 "allowCopy": true,
 "allowAnalysis": true,
 "itemAccess": false,
 "inspectionCapabilities": "",
 "noDataValue": -3.4028234663852886E38,
 "noDataValues": [
  -3.4028234663852886E38
 ],
 "minPixelSize": 0,
 "maxPixelSize": 0,
 "copyrightText": "",
 "serviceDataType": "esriImageServiceDataTypeGeneric",
 "serviceSourceType": "esriImageServiceSourceTypeDataset",
 "objectIdField": "",
 "fields": [],
 "capabilities": "Image, Metadata, Mensuration",
 "defaultMosaicMethod": "Center",
 "allowedMosaicMethods": "",
 "sortField": "",
 "sortValue": null,
 "sortAscending": true,
 "mosaicOperator": "First",
 "defaultCompressionQuality": 75,
 "defaultResamplingMethod": "Bilinear",
 "maxImageHeight": 4100,
 "maxImageWidth": 15000,
 "allowRasterFunction": true,
 "rasterFunctionInfos": [
  {
   "name": "None",
   "description": "",
   "help": ""
  }
 ],
 "rasterTypeInfos": [
  {
   "name": "Raster Dataset",
   "description": "Supports all ArcGIS Raster Datasets",
   "help": ""
  }
 ],
 "mensurationCapabilities": "Basic",
 "hasHistograms": true,
 "hasColormap": false,
 "hasRasterAttributeTable": false,
 "minScale": 0,
 "maxScale": 0,
 "exportTilesAllowed": false,
 "supportsStatistics": false,
 "supportsAdvancedQueries": false,
 "editFieldsInfo": null,
 "ownershipBasedAccessControlForRasters": null,
 "allowComputeTiePoints": false,
 "useStandardizedQueries": true,
 "advancedQueryCapabilities": {
  "useStandardizedQueries": true,
  "supportsStatistics": false,
  "supportsOrderBy": false,
  "supportsDistinct": false,
  "supportsPagination": false
 },
 "spatialReference": {
  "wkid": 102685,
  "latestWkid": 2248
 }
}
