{
 "currentVersion": 11.5,
 "serviceDescription": "Imagery/CRAB_Riverine_mosaic",
 "serviceItemId": "f8356e3d56ef4ba3af9df852f473599d",
 "name": "Imagery/CRAB_Riverine_mosaic",
 "description": "",
 "extent": {
  "xmin": 607386.5258377318,
  "ymin": 123219.87511650624,
  "xmax": 1834725.5258377318,
  "ymax": 759309.8751165062,
  "spatialReference": {
   "wkid": 102685,
   "latestWkid": 2248
  }
 },
 "initialExtent": {
  "xmin": 607386.5258377318,
  "ymin": 123219.87511650624,
  "xmax": 1834725.5258377318,
  "ymax": 759309.8751165062,
  "spatialReference": {
   "wkid": 102685,
   "latestWkid": 2248
  }
 },
 "fullExtent": {
  "xmin": 607386.5258377318,
  "ymin": 123219.87511650624,
  "xmax": 1834725.5258377318,
  "ymax": 759309.8751165062,
  "spatialReference": {
   "wkid": 102685,
   "latestWkid": 2248
  }
 },
 "sortableFields": "",
 "bandCount": 1,
 "pixelType": "F32",
 "minValues": [
  0
 ],
 "maxValues": [
  394.59100341797
 ],
 "meanValues": [
  8.843072742437
 ],
 "stdvValues": [
  10.578464339879
 ],
 "serviceProperties": "Center<\/MosaicMethod>First<\/MosaicOperator>true<\/SortAscending><\/LockImageID><\/TileOrderField>0<\/TileOrderBase>0.000000<\/AvgImageSpacingX>0.000000<\/AvgImageSpacingY>0.0<\/ViewPointX>0.0<\/ViewPointY>0.0<\/ViewPointDefShiftX>0.0<\/ViewPointDefShiftY>None<\/CompressionMethod>75<\/CompressionQuality>0.010000<\/CompressionTolerance>Bilinear<\/SamplingMethod><\/ImageServiceProperties><\/ImageServer>",
 "allowedFields": "",
 "hasMultidimensions": false,
 "pixelSizeX": 3,
 "pixelSizeY": 3,
 "meanPixelSize": 0.9144018288036577,
 "datasetFormat": "TIFF",
 "uncompressedSize": 346976917560,
 "blockWidth": 128,
 "blockHeight": 128,
 "compressionType": "LZW",
 "bandNames": [
  "Band_1"
 ],
 "allowCopy": true,
 "allowAnalysis": true,
 "itemAccess": false,
 "inspectionCapabilities": "",
 "noDataValue": 3.3999999521443642E38,
 "noDataValues": [
  3.3999999521443642E38
 ],
 "minPixelSize": 0,
 "maxPixelSize": 0,
 "copyrightText": "",
 "serviceDataType": "esriImageServiceDataTypeGeneric",
 "serviceSourceType": "esriImageServiceSourceTypeDataset",
 "objectIdField": "",
 "fields": [],
 "capabilities": "Image, Metadata, Mensuration",
 "defaultMosaicMethod": "Center",
 "allowedMosaicMethods": "",
 "sortField": "",
 "sortValue": null,
 "sortAscending": true,
 "mosaicOperator": "First",
 "defaultCompressionQuality": 75,
 "defaultResamplingMethod": "Bilinear",
 "maxImageHeight": 4100,
 "maxImageWidth": 15000,
 "allowRasterFunction": true,
 "rasterFunctionInfos": [
  {
   "name": "None",
   "description": "",
   "help": ""
  }
 ],
 "rasterTypeInfos": [
  {
   "name": "Raster Dataset",
   "description": "Supports all ArcGIS Raster Datasets",
   "help": ""
  }
 ],
 "mensurationCapabilities": "Basic",
 "hasHistograms": true,
 "hasColormap": false,
 "hasRasterAttributeTable": false,
 "minScale": 0,
 "maxScale": 0,
 "exportTilesAllowed": false,
 "supportsStatistics": false,
 "supportsAdvancedQueries": false,
 "editFieldsInfo": null,
 "ownershipBasedAccessControlForRasters": null,
 "allowComputeTiePoints": false,
 "useStandardizedQueries": true,
 "advancedQueryCapabilities": {
  "useStandardizedQueries": true,
  "supportsStatistics": false,
  "supportsOrderBy": false,
  "supportsDistinct": false,
  "supportsPagination": false
 },
 "spatialReference": {
  "wkid": 102685,
  "latestWkid": 2248
 }
}
