{ "currentVersion": 11.5, "serviceDescription": "

This raster dataset was developed as part of the Land Cover Project, a cooperative agreement between the Chesapeake Conservancy and the National Park Service funded through an interagency agreement with the Environmental Protection Agency. Virginia Geographic Information Network (VGIN) coordinated with Worldview Solutions the creation of a separate VA statewide high-resolution land cover dataset, which has unique class names and descriptions. For the purposes of a matching bay-wide dataset, this VA dataset was reclassified and some classes were edited to better match the Chesapeake Bay Dataset class definitions below. High Resolution mapping was used to develop consistent and extremely accurate land cover dataset for all the counties that comprise the Chesapeake Bay watershed. This land cover was created based on 2013/2014 National Agriculture Imagery Program (NAIP) aerial imagery. Anne Arundel County, Maryland updated 09/26/2019.<\/span><\/p>
The Land Cover Dataset has 7 classes: <\/span><\/p>
1 Water: All areas of open water. This includes ponds, rivers, lakes and boats not attached to docks. MMU = 25 square meters. <\/span><\/p>
2 Tree Canopy and Shrubs: Tree canopy is characterized as deciduous and evergreen woody vegetation of either natural succession or human planting that is over approximately 3-5 meters in height. Stand-alone individuals, discrete clumps, and interlocking individuals are included. Shrubs are characterized as a heterogeneous area of both/either deciduous and/or evergreen woody vegetation. Identified by variation in height of vegetation through patchy coverage of shrubs and young trees interspersed with grasses and other lower vegetation. Discrete clumps and small patches of interlocking individuals are included, as are true shrubs, young trees, and trees or shrubs that are small or stunted because of environmental conditions, when intermingled in a heterogeneous landscape with low vegetation. Tree Canopy MMU = 9 square meters, Shrubs MMU = 225 square meters<\/span><\/p>
3 Low Vegetation: Plant material less than approximately 2 meters in height. Includes lawns, tilled fields, nursery plantings with or without tarp cover and natural ground cover. MMU = 9 square meters <\/span><\/p>
4 Barren: Areas void of vegetation consisting of natural earthen material regardless of how it has been cleared. This includes beaches, mud flats, and bare ground in construction sites. MMU = 25 square meters<\/span><\/p>
5 Impervious Surfaces: Human-constructed surfaces through which water cannot penetrate, and that are below approximately 2 meters in height. MMU = 9 square meters<\/span><\/p>
6 Impervious Roads: Impervious surfaces that are used and maintained for transportation. MMU = 9 square meters<\/span><\/p>
7 Aberdeen Proving Ground<\/span><\/p>
<\/p>
Minimum Mapping Unit (MMU) in this instance is the minimum size, dimensions or threshold for features to be mapped or classified within a specific class.<\/span><\/p>
<\/p><\/div><\/div><\/div>", "serviceItemId": "e7c049978fe447b2ad24e626363fedb0", "name": "Baywide_7class_20132014_tif", "description": "

This raster dataset was developed as part of the Land Cover Project, a cooperative agreement between the Chesapeake Conservancy and the National Park Service funded through an interagency agreement with the Environmental Protection Agency. Virginia Geographic Information Network (VGIN) coordinated with Worldview Solutions the creation of a separate VA statewide high-resolution land cover dataset, which has unique class names and descriptions. For the purposes of a matching bay-wide dataset, this VA dataset was reclassified and some classes were edited to better match the Chesapeake Bay Dataset class definitions below. High Resolution mapping was used to develop consistent and extremely accurate land cover dataset for all the counties that comprise the Chesapeake Bay watershed. This land cover was created based on 2013/2014 National Agriculture Imagery Program (NAIP) aerial imagery. Anne Arundel County, Maryland updated 09/26/2019.<\/span><\/p>
The Land Cover Dataset has 7 classes: <\/span><\/p>
1 Water: All areas of open water. This includes ponds, rivers, lakes and boats not attached to docks. MMU = 25 square meters. <\/span><\/p>
2 Tree Canopy and Shrubs: Tree canopy is characterized as deciduous and evergreen woody vegetation of either natural succession or human planting that is over approximately 3-5 meters in height. Stand-alone individuals, discrete clumps, and interlocking individuals are included. Shrubs are characterized as a heterogeneous area of both/either deciduous and/or evergreen woody vegetation. Identified by variation in height of vegetation through patchy coverage of shrubs and young trees interspersed with grasses and other lower vegetation. Discrete clumps and small patches of interlocking individuals are included, as are true shrubs, young trees, and trees or shrubs that are small or stunted because of environmental conditions, when intermingled in a heterogeneous landscape with low vegetation. Tree Canopy MMU = 9 square meters, Shrubs MMU = 225 square meters<\/span><\/p>
3 Low Vegetation: Plant material less than approximately 2 meters in height. Includes lawns, tilled fields, nursery plantings with or without tarp cover and natural ground cover. MMU = 9 square meters <\/span><\/p>
4 Barren: Areas void of vegetation consisting of natural earthen material regardless of how it has been cleared. This includes beaches, mud flats, and bare ground in construction sites. MMU = 25 square meters<\/span><\/p>
5 Impervious Surfaces: Human-constructed surfaces through which water cannot penetrate, and that are below approximately 2 meters in height. MMU = 9 square meters<\/span><\/p>
6 Impervious Roads: Impervious surfaces that are used and maintained for transportation. MMU = 9 square meters<\/span><\/p>
7 Aberdeen Proving Ground<\/span><\/p>
<\/p>
Minimum Mapping Unit (MMU) in this instance is the minimum size, dimensions or threshold for features to be mapped or classified within a specific class.<\/span><\/p>
<\/p><\/div><\/div><\/div>", "extent": { "xmin": 1303555.0000000005, "ymin": 1656724.9999999981, "xmax": 1802681.0000000005, "ymax": 2535064.999999998, "spatialReference": { "wkid": 102039, "latestWkid": 102039 } }, "initialExtent": { "xmin": 1303555.0000000005, "ymin": 1656724.9999999981, "xmax": 1802681.0000000005, "ymax": 2535064.999999998, "spatialReference": { "wkid": 102039, "latestWkid": 102039 } }, "fullExtent": { "xmin": 1303555.0000000005, "ymin": 1656724.9999999981, "xmax": 1802681.0000000005, "ymax": 2535064.999999998, "spatialReference": { "wkid": 102039, "latestWkid": 102039 } }, "sortableFields": "", "bandCount": 1, "pixelType": "U4", "minValues": [ 1 ], "maxValues": [ 7 ], "meanValues": [ 2.3583217286851 ], "stdvValues": [ 0.81268130228313 ], "serviceProperties": "Center<\/MosaicMethod>First<\/MosaicOperator>true<\/SortAscending><\/LockImageID><\/TileOrderField>0<\/TileOrderBase>0.000000<\/AvgImageSpacingX>0.000000<\/AvgImageSpacingY>0.0<\/ViewPointX>0.0<\/ViewPointY>0.0<\/ViewPointDefShiftX>0.0<\/ViewPointDefShiftY>None<\/CompressionMethod>75<\/CompressionQuality>0.010000<\/CompressionTolerance>Bilinear<\/SamplingMethod><\/ImageServiceProperties><\/ImageServer>", "allowedFields": "", "hasMultidimensions": false, "pixelSizeX": 1, "pixelSizeY": 1, "meanPixelSize": 1, "datasetFormat": "TIFF", "uncompressedSize": 219201165420, "blockWidth": 128, "blockHeight": 128, "compressionType": "LZW", "bandNames": [ "Band_1" ], "allowCopy": true, "allowAnalysis": true, "itemAccess": false, "inspectionCapabilities": "", "noDataValue": 15, "noDataValues": [ 15 ], "minPixelSize": 0, "maxPixelSize": 0, "copyrightText": "Dataset created and developed by the Conservation Innovation Center at the Chesapeake Conservancy. The creation of this dataset was made possible as a result of a cooperative agreement between the Chesapeake Conservancy and the National Park Service being funded through an interagency agreement with the Environmental Protection Agency.", "serviceDataType": "esriImageServiceDataTypeGeneric", "serviceSourceType": "esriImageServiceSourceTypeDataset", "objectIdField": "", "fields": [], "capabilities": "Mensuration,Image,Metadata", "defaultMosaicMethod": "Center", "allowedMosaicMethods": "", "sortField": "", "sortValue": null, "sortAscending": true, "mosaicOperator": "First", "defaultCompressionQuality": 75, "defaultResamplingMethod": "Bilinear", "maxImageHeight": 4100, "maxImageWidth": 15000, "allowRasterFunction": true, "rasterFunctionInfos": [ { "name": "None", "description": "", "help": "" } ], "rasterTypeInfos": [ { "name": "Raster Dataset", "description": "Supports all ArcGIS Raster Datasets", "help": "" } ], "mensurationCapabilities": "Basic", "hasHistograms": true, "hasColormap": false, "hasRasterAttributeTable": true, "minScale": 0, "maxScale": 0, "exportTilesAllowed": false, "supportsStatistics": false, "supportsAdvancedQueries": false, "editFieldsInfo": null, "ownershipBasedAccessControlForRasters": null, "allowComputeTiePoints": false, "useStandardizedQueries": true, "advancedQueryCapabilities": { "useStandardizedQueries": true, "supportsStatistics": false, "supportsOrderBy": false, "supportsDistinct": false, "supportsPagination": false }, "spatialReference": { "wkid": 102039, "latestWkid": 102039 } }