<?xml version="1.0" encoding="UTF-8" standalone="no"?>
<metadata xml:lang="en">
<Esri>
<CreaDate>20200520</CreaDate>
<CreaTime>01214000</CreaTime>
<ArcGISFormat>1.0</ArcGISFormat>
<SyncOnce>FALSE</SyncOnce>
<DataProperties>
<lineage>
<Process Date="20200520" Name="" Time="012140" ToolSource="c:\program files\arcgis\pro\Resources\ArcToolbox\toolboxes\Spatial Analyst Tools.tbx\Reclassify" export="">Reclassify Baywide_13Class_20132014.tif Value "1 1;2 3;3 2;4 2;5 3;6 4;7 5;8 5;9 6;10 2;11 2;12 2;13 7;15 NODATA" \\ccsvr01\NorthWalk\LandCover\ChesapeakeBaywide\Baywide_6class_20132014\Baywide_7class_20132014.tif DATA</Process>
<Process Date="20200529" Time="102842" ToolSource="c:\program files\arcgis\pro\Resources\ArcToolbox\toolboxes\Data Management Tools.tbx\AddField">AddField \\ccsvr01\NorthWalk\LandCover\ChesapeakeBaywide\Baywide_6class_20132014\Baywide_7class_20132014.tif LandCover Text # # # # NULLABLE NON_REQUIRED #</Process>
<Process Date="20200529" Time="102843" ToolSource="c:\program files\arcgis\pro\Resources\ArcToolbox\toolboxes\Data Management Tools.tbx\CalculateField">CalculateField \\ccsvr01\NorthWalk\LandCover\ChesapeakeBaywide\Baywide_6class_20132014\Baywide_7class_20132014.tif LandCover landcover(!Value!) "Python 3" "
def landcover(value):
if value == 1:
return "Water"
elif value == 2:
return "Tree Canopy and Shrubs"
elif value == 3:
return "Low Vegetation"
elif value == 4: return "Barren"
elif value == 5:
return "Impervious Surfaces"
elif value == 6:
return "Impervious Roads"
elif value == 7:
return "Aberdeen Proving Ground"
" Text</Process>
<Process Date="20200529" Time="102843" ToolSource="c:\program files\arcgis\pro\Resources\ArcToolbox\toolboxes\Data Management Tools.tbx\AddField">AddField \\ccsvr01\NorthWalk\LandCover\ChesapeakeBaywide\Baywide_6class_20132014\Baywide_7class_20132014.tif Red "Short (small integer)" # # # # NULLABLE NON_REQUIRED #</Process>
<Process Date="20200529" Time="102844" ToolSource="c:\program files\arcgis\pro\Resources\ArcToolbox\toolboxes\Data Management Tools.tbx\CalculateField">CalculateField \\ccsvr01\NorthWalk\LandCover\ChesapeakeBaywide\Baywide_6class_20132014\Baywide_7class_20132014.tif Red RedValue(!Value!) "Python 3" "def RedValue(Value):
if (Value == 1):
return 0
elif Value == 2:
return 38
elif Value == 3:
return 163
elif Value == 4:
return 255
elif Value == 5:
return 156
elif Value == 6:
return 0
elif Value == 7:
return 197
" Text</Process>
<Process Date="20200529" Time="102845" ToolSource="c:\program files\arcgis\pro\Resources\ArcToolbox\toolboxes\Data Management Tools.tbx\AddField">AddField \\ccsvr01\NorthWalk\LandCover\ChesapeakeBaywide\Baywide_6class_20132014\Baywide_7class_20132014.tif Green "Short (small integer)" # # # # NULLABLE NON_REQUIRED #</Process>
<Process Date="20200529" Time="102845" ToolSource="c:\program files\arcgis\pro\Resources\ArcToolbox\toolboxes\Data Management Tools.tbx\CalculateField">CalculateField \\ccsvr01\NorthWalk\LandCover\ChesapeakeBaywide\Baywide_6class_20132014\Baywide_7class_20132014.tif Green GreenValue(!Value!) "Python 3" "def GreenValue(Value):
if (Value == 1):
return 197
elif Value == 2:
return 115
elif Value == 3:
return 255
elif Value == 4:
return 170
elif Value == 5:
return 156
elif Value == 6:
return 0
elif Value == 7:
return 0
" Text</Process>
<Process Date="20200529" Time="102846" ToolSource="c:\program files\arcgis\pro\Resources\ArcToolbox\toolboxes\Data Management Tools.tbx\AddField">AddField \\ccsvr01\NorthWalk\LandCover\ChesapeakeBaywide\Baywide_6class_20132014\Baywide_7class_20132014.tif Blue "Short (small integer)" # # # # NULLABLE NON_REQUIRED #</Process>
<Process Date="20200529" Time="102847" ToolSource="c:\program files\arcgis\pro\Resources\ArcToolbox\toolboxes\Data Management Tools.tbx\CalculateField">CalculateField \\ccsvr01\NorthWalk\LandCover\ChesapeakeBaywide\Baywide_6class_20132014\Baywide_7class_20132014.tif Blue BlueValue(!Value!) "Python 3" "def BlueValue(Value):
if (Value == 1):
return 255
elif Value == 2:
return 0
elif Value == 3:
return 115
elif Value == 4:
return 0
elif Value == 5:
return 156
elif Value == 6:
return 0
elif Value == 7:
return 255
" Text</Process>
</lineage>
<itemProps>
<itemName Sync="TRUE">Baywide_7class_20132014.tif</itemName>
<itemLocation>
<linkage Sync="TRUE">file://\\ccsvr01\NorthWalk\LandCover\ChesapeakeBaywide\Baywide_7Class_20132014\Baywide_7class_20132014.tif</linkage>
<protocol Sync="TRUE">Local Area Network</protocol>
</itemLocation>
<imsContentType Sync="TRUE">002</imsContentType>
<nativeExtBox>
<westBL Sync="TRUE">1303555.000000</westBL>
<eastBL Sync="TRUE">1802681.000000</eastBL>
<southBL Sync="TRUE">1656725.000000</southBL>
<northBL Sync="TRUE">2535065.000000</northBL>
<exTypeCode Sync="TRUE">1</exTypeCode>
</nativeExtBox>
</itemProps>
<coordRef>
<type Sync="TRUE">Projected</type>
<geogcsn Sync="TRUE">GCS_North_American_1983</geogcsn>
<csUnits Sync="TRUE">Linear Unit: Meter (1.000000)</csUnits>
<projcsn Sync="TRUE">USA_Contiguous_Albers_Equal_Area_Conic_USGS_version</projcsn>
<peXml Sync="TRUE">&lt;ProjectedCoordinateSystem xsi:type='typens:ProjectedCoordinateSystem' xmlns:xsi='http://www.w3.org/2001/XMLSchema-instance' xmlns:xs='http://www.w3.org/2001/XMLSchema' xmlns:typens='http://www.esri.com/schemas/ArcGIS/10.7'&gt;&lt;WKT&gt;PROJCS[&amp;quot;USA_Contiguous_Albers_Equal_Area_Conic_USGS_version&amp;quot;,GEOGCS[&amp;quot;GCS_North_American_1983&amp;quot;,DATUM[&amp;quot;D_North_American_1983&amp;quot;,SPHEROID[&amp;quot;GRS_1980&amp;quot;,6378137.0,298.257222101]],PRIMEM[&amp;quot;Greenwich&amp;quot;,0.0],UNIT[&amp;quot;Degree&amp;quot;,0.0174532925199433]],PROJECTION[&amp;quot;Albers&amp;quot;],PARAMETER[&amp;quot;False_Easting&amp;quot;,0.0],PARAMETER[&amp;quot;False_Northing&amp;quot;,0.0],PARAMETER[&amp;quot;Central_Meridian&amp;quot;,-96.0],PARAMETER[&amp;quot;Standard_Parallel_1&amp;quot;,29.5],PARAMETER[&amp;quot;Standard_Parallel_2&amp;quot;,45.5],PARAMETER[&amp;quot;Latitude_Of_Origin&amp;quot;,23.0],UNIT[&amp;quot;Meter&amp;quot;,1.0],AUTHORITY[&amp;quot;Esri&amp;quot;,102039]]&lt;/WKT&gt;&lt;XOrigin&gt;-16901100&lt;/XOrigin&gt;&lt;YOrigin&gt;-6972200&lt;/YOrigin&gt;&lt;XYScale&gt;266467840.99085236&lt;/XYScale&gt;&lt;ZOrigin&gt;-100000&lt;/ZOrigin&gt;&lt;ZScale&gt;10000&lt;/ZScale&gt;&lt;MOrigin&gt;-100000&lt;/MOrigin&gt;&lt;MScale&gt;10000&lt;/MScale&gt;&lt;XYTolerance&gt;0.001&lt;/XYTolerance&gt;&lt;ZTolerance&gt;0.001&lt;/ZTolerance&gt;&lt;MTolerance&gt;0.001&lt;/MTolerance&gt;&lt;HighPrecision&gt;true&lt;/HighPrecision&gt;&lt;WKID&gt;102039&lt;/WKID&gt;&lt;LatestWKID&gt;102039&lt;/LatestWKID&gt;&lt;/ProjectedCoordinateSystem&gt;</peXml>
</coordRef>
<RasterProperties>
<General>
<PixelDepth Sync="TRUE">4</PixelDepth>
<HasColormap Sync="TRUE">FALSE</HasColormap>
<CompressionType Sync="TRUE">LZW</CompressionType>
<NumBands Sync="TRUE">1</NumBands>
<Format Sync="TRUE">TIFF</Format>
<HasPyramids Sync="TRUE">TRUE</HasPyramids>
<SourceType Sync="TRUE">continuous</SourceType>
<PixelType Sync="TRUE">unsigned integer</PixelType>
<NoDataValue Sync="TRUE">15</NoDataValue>
</General>
</RasterProperties>
</DataProperties>
<SyncDate>20200601</SyncDate>
<SyncTime>10285000</SyncTime>
<ModDate>20200601</ModDate>
<ModTime>10285000</ModTime>
<scaleRange>
<minScale>150000000</minScale>
<maxScale>5000</maxScale>
</scaleRange>
<ArcGISProfile>ItemDescription</ArcGISProfile>
</Esri>
<dataIdInfo>
<envirDesc Sync="TRUE"> Version 6.2 (Build 9200) ; Esri ArcGIS 10.7.1.11595</envirDesc>
<dataLang>
<languageCode Sync="TRUE" value="eng"/>
<countryCode Sync="TRUE" value="USA"/>
</dataLang>
<idCitation>
<resTitle Sync="FALSE">Baywide_7class_20132014_tif</resTitle>
<presForm>
<PresFormCd Sync="TRUE" value="005"/>
</presForm>
</idCitation>
<spatRpType>
<SpatRepTypCd Sync="TRUE" value="002"/>
</spatRpType>
<dataExt>
<geoEle>
<GeoBndBox esriExtentType="search">
<exTypeCode Sync="TRUE">1</exTypeCode>
<westBL Sync="TRUE">-81.146584</westBL>
<eastBL Sync="TRUE">-73.273577</eastBL>
<northBL Sync="TRUE">44.778215</northBL>
<southBL Sync="TRUE">36.212922</southBL>
</GeoBndBox>
</geoEle>
</dataExt>
<idPurp>This dataset will enhance the ability to guide the most efficient use of resources in the Bay as well as aid the identification of priorities for conservation...</idPurp>
<idAbs>&lt;div style='text-align:Left;'&gt;&lt;div&gt;&lt;div&gt;&lt;p&gt;&lt;span&gt;This raster dataset was developed as part of the Land Cover Project, a cooperative agreement between the Chesapeake Conservancy and the National Park Service funded through an interagency agreement with the Environmental Protection Agency. Virginia Geographic Information Network (VGIN) coordinated with Worldview Solutions the creation of a separate VA statewide high-resolution land cover dataset, which has unique class names and descriptions. For the purposes of a matching bay-wide dataset, this VA dataset was reclassified and some classes were edited to better match the Chesapeake Bay Dataset class definitions below. High Resolution mapping was used to develop consistent and extremely accurate land cover dataset for all the counties that comprise the Chesapeake Bay watershed. This land cover was created based on 2013/2014 National Agriculture Imagery Program (NAIP) aerial imagery. Anne Arundel County, Maryland updated 09/26/2019.&lt;/span&gt;&lt;/p&gt;&lt;p&gt;&lt;span&gt;The Land Cover Dataset has 7 classes: &lt;/span&gt;&lt;/p&gt;&lt;p&gt;&lt;span&gt;1 Water: All areas of open water. This includes ponds, rivers, lakes and boats not attached to docks. MMU = 25 square meters. &lt;/span&gt;&lt;/p&gt;&lt;p&gt;&lt;span&gt;2 Tree Canopy and Shrubs: Tree canopy is characterized as deciduous and evergreen woody vegetation of either natural succession or human planting that is over approximately 3-5 meters in height. Stand-alone individuals, discrete clumps, and interlocking individuals are included. Shrubs are characterized as a heterogeneous area of both/either deciduous and/or evergreen woody vegetation. Identified by variation in height of vegetation through patchy coverage of shrubs and young trees interspersed with grasses and other lower vegetation. Discrete clumps and small patches of interlocking individuals are included, as are true shrubs, young trees, and trees or shrubs that are small or stunted because of environmental conditions, when intermingled in a heterogeneous landscape with low vegetation. Tree Canopy MMU = 9 square meters, Shrubs MMU = 225 square meters&lt;/span&gt;&lt;/p&gt;&lt;p&gt;&lt;span&gt;3 Low Vegetation: Plant material less than approximately 2 meters in height. Includes lawns, tilled fields, nursery plantings with or without tarp cover and natural ground cover. MMU = 9 square meters &lt;/span&gt;&lt;/p&gt;&lt;p&gt;&lt;span&gt;4 Barren: Areas void of vegetation consisting of natural earthen material regardless of how it has been cleared. This includes beaches, mud flats, and bare ground in construction sites. MMU = 25 square meters&lt;/span&gt;&lt;/p&gt;&lt;p&gt;&lt;span&gt;5 Impervious Surfaces: Human-constructed surfaces through which water cannot penetrate, and that are below approximately 2 meters in height. MMU = 9 square meters&lt;/span&gt;&lt;/p&gt;&lt;p&gt;&lt;span&gt;6 Impervious Roads: Impervious surfaces that are used and maintained for transportation. MMU = 9 square meters&lt;/span&gt;&lt;/p&gt;&lt;p&gt;&lt;span&gt;7 Aberdeen Proving Ground&lt;/span&gt;&lt;/p&gt;&lt;p&gt;&lt;span /&gt;&lt;/p&gt;&lt;p&gt;&lt;span&gt;Minimum Mapping Unit (MMU) in this instance is the minimum size, dimensions or threshold for features to be mapped or classified within a specific class.&lt;/span&gt;&lt;/p&gt;&lt;p&gt;&lt;span /&gt;&lt;/p&gt;&lt;/div&gt;&lt;/div&gt;&lt;/div&gt;</idAbs>
<idCredit>Dataset created and developed by the Conservation Innovation Center at the Chesapeake Conservancy. The creation of this dataset was made possible as a result of a cooperative agreement between the Chesapeake Conservancy and the National Park Service being funded through an interagency agreement with the Environmental Protection Agency.</idCredit>
<searchKeys>
<keyword>Land Cover</keyword>
<keyword>High Resolution Mapping</keyword>
<keyword>Chesapeake Bay Watershed</keyword>
</searchKeys>
<resConst>
<Consts>
<useLimit>&lt;div style='text-align:Left;'&gt;&lt;div&gt;&lt;div&gt;&lt;p&gt;&lt;span&gt;The organizations responsible for generating and funding this dataset make no representations of any kind including, but not limited to the warranties of merchantability or fitness for a particular use, nor are any such warranties to be implied with respect to the data. Although every effort has been made to ensure the accuracy of information, errors may be reflected in data supplied. The user must be aware of data conditions and bear responsibility for the appropriate use of the information with respect to possible errors, original map scale, collection methodology, currency of data, and other conditions. Credit should always be given to the data source when this data is transferred, altered, or used for analysis.&lt;/span&gt;&lt;/p&gt;&lt;p&gt;&lt;span /&gt;&lt;/p&gt;&lt;/div&gt;&lt;/div&gt;&lt;/div&gt;</useLimit>
</Consts>
</resConst>
</dataIdInfo>
<mdLang>
<languageCode Sync="TRUE" value="eng"/>
<countryCode Sync="TRUE" value="USA"/>
</mdLang>
<mdChar>
<CharSetCd Sync="TRUE" value="004"/>
</mdChar>
<distInfo>
<distFormat>
<formatName Sync="TRUE">Raster Dataset</formatName>
</distFormat>
</distInfo>
<mdHrLv>
<ScopeCd Sync="TRUE" value="005"/>
</mdHrLv>
<mdHrLvName Sync="TRUE">dataset</mdHrLvName>
<refSysInfo>
<RefSystem>
<refSysID>
<identCode Sync="TRUE" code="102039"/>
<idCodeSpace Sync="TRUE">Esri</idCodeSpace>
<idVersion Sync="TRUE">8.1.2</idVersion>
</refSysID>
</RefSystem>
</refSysInfo>
<spatRepInfo>
<Georect>
<cellGeo>
<CellGeoCd Sync="TRUE" value="002"/>
</cellGeo>
<numDims Sync="TRUE">2</numDims>
<tranParaAv Sync="TRUE">1</tranParaAv>
<chkPtAv Sync="TRUE">0</chkPtAv>
<cornerPts>
<pos Sync="TRUE">1303555.000000 1656725.000000</pos>
</cornerPts>
<cornerPts>
<pos Sync="TRUE">1303555.000000 2535065.000000</pos>
</cornerPts>
<cornerPts>
<pos Sync="TRUE">1802681.000000 2535065.000000</pos>
</cornerPts>
<cornerPts>
<pos Sync="TRUE">1802681.000000 1656725.000000</pos>
</cornerPts>
<centerPt>
<pos Sync="TRUE">1553118.000000 2095895.000000</pos>
</centerPt>
<axisDimension type="002">
<dimSize Sync="TRUE">499126</dimSize>
<dimResol>
<value Sync="TRUE" uom="m">1.000000</value>
</dimResol>
</axisDimension>
<axisDimension type="001">
<dimSize Sync="TRUE">878340</dimSize>
<dimResol>
<value Sync="TRUE" uom="m">1.000000</value>
</dimResol>
</axisDimension>
<ptInPixel>
<PixOrientCd Sync="TRUE" value="001"/>
</ptInPixel>
</Georect>
</spatRepInfo>
<eainfo>
<detailed Name="Baywide_7class_20132014.tif.vat">
<enttyp>
<enttypl Sync="TRUE">Baywide_7class_20132014.tif.vat</enttypl>
<enttypt Sync="TRUE">Table</enttypt>
<enttypc Sync="TRUE">7</enttypc>
</enttyp>
<attr>
<attrlabl Sync="TRUE">OID</attrlabl>
<attalias Sync="TRUE">OID</attalias>
<attrtype Sync="TRUE">OID</attrtype>
<attwidth Sync="TRUE">4</attwidth>
<atprecis Sync="TRUE">0</atprecis>
<attscale Sync="TRUE">0</attscale>
<attrdef Sync="TRUE">Internal feature number.</attrdef>
<attrdefs Sync="TRUE">Esri</attrdefs>
<attrdomv>
<udom Sync="TRUE">Sequential unique whole numbers that are automatically generated.</udom>
</attrdomv>
</attr>
<attr>
<attrlabl Sync="TRUE">Value</attrlabl>
<attalias Sync="TRUE">Value</attalias>
<attrtype Sync="TRUE">Integer</attrtype>
<attwidth Sync="TRUE">10</attwidth>
<atprecis Sync="TRUE">10</atprecis>
<attscale Sync="TRUE">0</attscale>
</attr>
<attr>
<attrlabl Sync="TRUE">Count</attrlabl>
<attalias Sync="TRUE">Count</attalias>
<attrtype Sync="TRUE">Double</attrtype>
<attwidth Sync="TRUE">19</attwidth>
<atprecis Sync="TRUE">0</atprecis>
<attscale Sync="TRUE">0</attscale>
</attr>
<attr>
<attrlabl Sync="TRUE">LandCover</attrlabl>
<attalias Sync="TRUE">LandCover</attalias>
<attrtype Sync="TRUE">String</attrtype>
<attwidth Sync="TRUE">254</attwidth>
<atprecis Sync="TRUE">0</atprecis>
<attscale Sync="TRUE">0</attscale>
</attr>
<attr>
<attrlabl Sync="TRUE">Red</attrlabl>
<attalias Sync="TRUE">Red</attalias>
<attrtype Sync="TRUE">Integer</attrtype>
<attwidth Sync="TRUE">5</attwidth>
<atprecis Sync="TRUE">5</atprecis>
<attscale Sync="TRUE">0</attscale>
</attr>
<attr>
<attrlabl Sync="TRUE">Green</attrlabl>
<attalias Sync="TRUE">Green</attalias>
<attrtype Sync="TRUE">Integer</attrtype>
<attwidth Sync="TRUE">5</attwidth>
<atprecis Sync="TRUE">5</atprecis>
<attscale Sync="TRUE">0</attscale>
</attr>
<attr>
<attrlabl Sync="TRUE">Blue</attrlabl>
<attalias Sync="TRUE">Blue</attalias>
<attrtype Sync="TRUE">Integer</attrtype>
<attwidth Sync="TRUE">5</attwidth>
<atprecis Sync="TRUE">5</atprecis>
<attscale Sync="TRUE">0</attscale>
</attr>
</detailed>
</eainfo>
<contInfo>
<ImgDesc>
<contentTyp>
<ContentTypCd Sync="TRUE" value="001"/>
</contentTyp>
<covDim>
<Band>
<dimDescrp Sync="TRUE">Band_1</dimDescrp>
<maxVal Sync="TRUE">7.000000</maxVal>
<minVal Sync="TRUE">1.000000</minVal>
<bitsPerVal Sync="TRUE">4</bitsPerVal>
<valUnit>
<UOM type="length"/>
</valUnit>
</Band>
</covDim>
</ImgDesc>
</contInfo>
<mdDateSt Sync="TRUE">20200601</mdDateSt>
</metadata>
